BEGIN:VCALENDAR
BEGIN:VTIMEZONE
TZID:America/Chicago
BEGIN:STANDARD
DTSTART:20180322T100000
RRULE:FREQ=YEARLY;BYDAY=1SU;BYMONTH=11
TZOFFSETFROM:-0500
TZOFFSETTO:-0600
END:STANDARD
BEGIN:DAYLIGHT
DTSTART:20180322T100000
RRULE:FREQ=YEARLY;BYDAY=2SU;BYMONTH=3
TZOFFSETFROM:-0600
TZOFFSETTO:-0500
END:DAYLIGHT
END:VTIMEZONEVERSION:2.0
BEGIN:VEVENT
DTSTAMP:20260424T220244
STATUS:CONFIRMED
UID:MTSU-WORKSHOP-135
DTSTART;TZID=America/Chicago:20180322T100000
DTEND;TZID=America/Chicago:20180322T120000
SUMMARY:Intro to Argos 
DESCRIPTION:http://www.mtsu.edu/workshops/register/135/intro-to-argos
X-ALT-DESC;FMTTYPE=text/html:<a href='http://www.mtsu.edu/workshops/register/135/intro-to-argos'>http://www.mtsu.edu/workshops/register/135/intro-to-argos</a>
LOCATION:Parking Services Building (PKS) ERP Training Room
BEGIN:VALARM
TRIGGER:-PT15M
ACTION:DISPLAY
END:VALARM
TRANSP:OPAQUE
END:VEVENT
END:VCALENDAR