BEGIN:VCALENDAR
BEGIN:VTIMEZONE
TZID:America/Chicago
BEGIN:STANDARD
DTSTART:20210513T000000
RRULE:FREQ=YEARLY;BYDAY=1SU;BYMONTH=11
TZOFFSETFROM:-0500
TZOFFSETTO:-0600
END:STANDARD
BEGIN:DAYLIGHT
DTSTART:20210513T000000
RRULE:FREQ=YEARLY;BYDAY=2SU;BYMONTH=3
TZOFFSETFROM:-0600
TZOFFSETTO:-0500
END:DAYLIGHT
END:VTIMEZONEVERSION:2.0
BEGIN:VEVENT
DTSTAMP:20260420T080930
STATUS:CONFIRMED
UID:MTSU-WORKSHOP-2583
DTSTART;TZID=America/Chicago:20210513T000000
DTEND;TZID=America/Chicago:20210514T190000
SUMMARY:MT Engage Summer Institute | WAITING LIST
DESCRIPTION:http://www.mtsu.edu/workshops/register/2583/mt-engage-summer-institute-waiting-list
X-ALT-DESC;FMTTYPE=text/html:<a href='http://www.mtsu.edu/workshops/register/2583/mt-engage-summer-institute-waiting-list'>http://www.mtsu.edu/workshops/register/2583/mt-engage-summer-institute-waiting-list</a>
BEGIN:VALARM
TRIGGER:-PT15M
ACTION:DISPLAY
END:VALARM
TRANSP:OPAQUE
END:VEVENT
END:VCALENDAR