BEGIN:VCALENDAR
BEGIN:VTIMEZONE
TZID:America/Chicago
BEGIN:STANDARD
DTSTART:20220411T150000
RRULE:FREQ=YEARLY;BYDAY=1SU;BYMONTH=11
TZOFFSETFROM:-0500
TZOFFSETTO:-0600
END:STANDARD
BEGIN:DAYLIGHT
DTSTART:20220411T150000
RRULE:FREQ=YEARLY;BYDAY=2SU;BYMONTH=3
TZOFFSETFROM:-0600
TZOFFSETTO:-0500
END:DAYLIGHT
END:VTIMEZONEVERSION:2.0
BEGIN:VEVENT
DTSTAMP:20260422T050000
STATUS:CONFIRMED
UID:MTSU-WORKSHOP-2968
DTSTART;TZID=America/Chicago:20220411T150000
DTEND;TZID=America/Chicago:20220411T160000
SUMMARY:How to Conduct and Publish a Scholarship of Teaching and Learning (SoTL) Project
DESCRIPTION:http://www.mtsu.edu/workshops/register/2968/how-to-conduct-and-publish-a-scholarship-of-teaching-and-learning-sotl-project
X-ALT-DESC;FMTTYPE=text/html:<a href='http://www.mtsu.edu/workshops/register/2968/how-to-conduct-and-publish-a-scholarship-of-teaching-and-learning-sotl-project'>http://www.mtsu.edu/workshops/register/2968/how-to-conduct-and-publish-a-scholarship-of-teaching-and-learning-sotl-project</a>
LOCATION:James E. Walker Library (LIB) 348
BEGIN:VALARM
TRIGGER:-PT15M
ACTION:DISPLAY
END:VALARM
TRANSP:OPAQUE
END:VEVENT
END:VCALENDAR